BEGIN:VCALENDAR
VERSION:2.0
PRODID:-//Achtsamkeitsinstitut Ruhr - ECPv6.15.20//NONSGML v1.0//EN
CALSCALE:GREGORIAN
METHOD:PUBLISH
X-ORIGINAL-URL:https://www.achtsamkeitsinstitut-ruhr.de
X-WR-CALDESC:Veranstaltungen für Achtsamkeitsinstitut Ruhr
REFRESH-INTERVAL;VALUE=DURATION:PT1H
X-Robots-Tag:noindex
X-PUBLISHED-TTL:PT1H
BEGIN:VTIMEZONE
TZID:Europe/Berlin
BEGIN:DAYLIGHT
TZOFFSETFROM:+0100
TZOFFSETTO:+0200
TZNAME:CEST
DTSTART:20250330T010000
END:DAYLIGHT
BEGIN:STANDARD
TZOFFSETFROM:+0200
TZOFFSETTO:+0100
TZNAME:CET
DTSTART:20251026T010000
END:STANDARD
BEGIN:DAYLIGHT
TZOFFSETFROM:+0100
TZOFFSETTO:+0200
TZNAME:CEST
DTSTART:20260329T010000
END:DAYLIGHT
BEGIN:STANDARD
TZOFFSETFROM:+0200
TZOFFSETTO:+0100
TZNAME:CET
DTSTART:20261025T010000
END:STANDARD
BEGIN:DAYLIGHT
TZOFFSETFROM:+0100
TZOFFSETTO:+0200
TZNAME:CEST
DTSTART:20270328T010000
END:DAYLIGHT
BEGIN:STANDARD
TZOFFSETFROM:+0200
TZOFFSETTO:+0100
TZNAME:CET
DTSTART:20271031T010000
END:STANDARD
END:VTIMEZONE
BEGIN:VEVENT
DTSTART;VALUE=DATE:20260205
DTEND;VALUE=DATE:20260208
DTSTAMP:20260419T161916
CREATED:20250422T161035Z
LAST-MODIFIED:20250909T091003Z
UID:10078-1770249600-1770508799@www.achtsamkeitsinstitut-ruhr.de
SUMMARY:Modul 1: Achtsamkeit lehren in Psychiatrie und Psychosomatik - Fortbildung f. Menschen in Pflege- und Gesundheitsberufen
DESCRIPTION:Fortbildung in 5 Modulen von Februar 2026 – November 2026: Alle Infos und Termine hier. Die Fortbildung findet in der Akademie im Park in Wiesloch statt. Ausführliche Informationen finden Sie auf der Webseite der Akademie im Park.\nWenn Sie Fragen zu den Inhalten der Fortbildung haben\, melden Sie sich gerne telefonisch bei uns oder per E-Mail unter info@achtsamkeitsinstitut-ruhr.de\nDie Fortbildung befähigt die Teilnehmenden\, auf der Basis eines erfahrungsbasierten Verstehens von Achtsamkeit professionell und kompetent Achtsamkeitsbasierte Interventionen angepasst an ihr jeweiliges Setting (Stationär/ Teilstationär/ Ambulant) zu leiten und je nach Gegebenheiten weiter zu entwickeln. Sie ist geeignet für Menschen\, Therapeut:innen sowie Pflegende\, die in Gesundheits\,- Pflege- oder Sozialberufen arbeiten und grundlegende Erfahrungen mit der Praxis der Achtsamkeitsmeditation z.B. durch den Besuch eines MBSR-Kurses\, haben. \nweiterlesen …
URL:https://www.achtsamkeitsinstitut-ruhr.de/event/modul-1-achtsamkeit-lehren-in-psychiatrie-und-psychosomatik-fortbildung-f-menschen-in-pflege-und-gesundheitsberufen/
LOCATION:Akademie im Park\, Heidelberger Str. 1a\, Wiesloch\, 69168
ATTACH;FMTTYPE=image/jpeg:https://www.achtsamkeitsinstitut-ruhr.de/wp-content/uploads/2024/10/Deckblatt_APP2.jpg
END:VEVENT
BEGIN:VEVENT
DTSTART;VALUE=DATE:20260215
DTEND;VALUE=DATE:20260221
DTSTAMP:20260419T161916
CREATED:20251216T152506Z
LAST-MODIFIED:20251216T152506Z
UID:10685-1771113600-1771631999@www.achtsamkeitsinstitut-ruhr.de
SUMMARY:Fünftägiges Schweige-Retreat mit John Peacock
DESCRIPTION:Das Retreat findet im Schweigen statt. Perioden von Sitz- und Gehmeditation wechseln sich dabei ab. Tägliche Vorträge und die Möglichkeit\, in einem Kleingruppengespräch mit dem Retreatleiter die Übungserfahrungen zu reflektieren\, runden die Tage ab. \nhttps://www.achtsamkeitsinstitut-ruhr.de/schweigeretreat-mit-john-peacock/
URL:https://www.achtsamkeitsinstitut-ruhr.de/event/fuenftaegiges-schweige-retreat-mit-john-peacock/
LOCATION:Seminarhotel Haus Ebersberg in Bad Zwesten bei Kassel\, Ebersberg Str. 27\, Bad Zwesten\, 34596
END:VEVENT
END:VCALENDAR