BEGIN:VCALENDAR
VERSION:2.0
PRODID:-//Achtsamkeitsinstitut Ruhr - ECPv6.15.20//NONSGML v1.0//EN
CALSCALE:GREGORIAN
METHOD:PUBLISH
X-ORIGINAL-URL:https://www.achtsamkeitsinstitut-ruhr.de
X-WR-CALDESC:Veranstaltungen für Achtsamkeitsinstitut Ruhr
REFRESH-INTERVAL;VALUE=DURATION:PT1H
X-Robots-Tag:noindex
X-PUBLISHED-TTL:PT1H
BEGIN:VTIMEZONE
TZID:Europe/Berlin
BEGIN:DAYLIGHT
TZOFFSETFROM:+0100
TZOFFSETTO:+0200
TZNAME:CEST
DTSTART:20240331T010000
END:DAYLIGHT
BEGIN:STANDARD
TZOFFSETFROM:+0200
TZOFFSETTO:+0100
TZNAME:CET
DTSTART:20241027T010000
END:STANDARD
BEGIN:DAYLIGHT
TZOFFSETFROM:+0100
TZOFFSETTO:+0200
TZNAME:CEST
DTSTART:20250330T010000
END:DAYLIGHT
BEGIN:STANDARD
TZOFFSETFROM:+0200
TZOFFSETTO:+0100
TZNAME:CET
DTSTART:20251026T010000
END:STANDARD
BEGIN:DAYLIGHT
TZOFFSETFROM:+0100
TZOFFSETTO:+0200
TZNAME:CEST
DTSTART:20260329T010000
END:DAYLIGHT
BEGIN:STANDARD
TZOFFSETFROM:+0200
TZOFFSETTO:+0100
TZNAME:CET
DTSTART:20261025T010000
END:STANDARD
END:VTIMEZONE
BEGIN:VEVENT
DTSTART;VALUE=DATE:20251106
DTEND;VALUE=DATE:20251110
DTSTAMP:20260419T205959
CREATED:20250128T135730Z
LAST-MODIFIED:20250128T140527Z
UID:9923-1762387200-1762732799@www.achtsamkeitsinstitut-ruhr.de
SUMMARY:Online Zertifizierungstraining in der Breathworks-Methode (Mindfulness based Pain Management) Modul 1
DESCRIPTION:Online-Zertifizierungstraining in der Breathworks-Methode „MBPM – Mindfulness-Based Pain Management: achtsamkeits- und mitgefühlsbasierte Schmerzbewältigung für MBSR-\, MBCT-\, MBCL-\, und MSC-Lehrer:innen“ des Achtsamkeitsinstitut Ruhr\nWir freuen uns\, im Winter 2025 das siebte Zertifizierungstraining in der Breathworks-Methode (MBPM\, Mindfulness-Based Pain Management/ achtsamkeitsbasierte Schmerzbewältigung) am Achtsamkeitsinstitut Ruhr in Zusammenarbeit mit Dr. Colette Power und Vidyamala Burch anzubieten. Es ist ein Online Live Kompakttraining (in zwei zusammenhängenden Modulen) für MBSR-\, MBCT-\, MBCL- oder MSC-Lehrer*innen\, die an einem dreitägigen Einführungsseminar zur Breathworksmethode teilgenommen haben. \n2 Module Online: Modul 1: 06.Nov – 09. Nov. 2025 und Modul 2: 11. Dez – 14. Dez. 2025\nWeitere Informationen: https://www.achtsamkeitsinstitut-ruhr.de/zertifizierung-in-der-breathworks-methode/
URL:https://www.achtsamkeitsinstitut-ruhr.de/event/online-zertifizierungstraining-in-der-breathworks-methode-mindfulness-based-pain-management/
LOCATION:Online Live
END:VEVENT
BEGIN:VEVENT
DTSTART;VALUE=DATE:20251114
DTEND;VALUE=DATE:20251116
DTSTAMP:20260419T205959
CREATED:20250701T084706Z
LAST-MODIFIED:20250701T084706Z
UID:10207-1763078400-1763251199@www.achtsamkeitsinstitut-ruhr.de
SUMMARY:DIE KUNST DES ERFORSCHENDEN GESPRÄCHS („INQUIRY“) IN ACHTSAMKEITSBASIERTER THERAPIE\, BERATUNG UND LEHRE
DESCRIPTION:Das erforschende Gespräch (engl. „Inquiry“) ist ein zentraler Bestandteil achtsamkeitsbasierter Verfahren. Ziel der Inquiry ist es\, die Teilnehmer*innen bzw. Klient:innen im achtsamen Dialog bei einer freundlichen und wertfreien Selbsterforschung zu begleiten. Dies ermöglicht eine differenzierte Sichtweise auf die eigenen Gedanken\, Gefühle und Körperempfindungen. Das erforschende Gespräch regt damit eine vertiefte und klarere Selbstwahrnehmung an und hilft den Teilnehmer*innen/ Klient*innen\, ihre Erfahrungen in einen persönlichen Kontext des Verstehens zu bringen.
URL:https://www.achtsamkeitsinstitut-ruhr.de/event/die-kunst-des-erforschenden-gespraechs-inquiry-in-achtsamkeitsbasierter-therapie-beratung-und-lehre/
LOCATION:Online Live
END:VEVENT
BEGIN:VEVENT
DTSTART;TZID=Europe/Berlin:20251114T140000
DTEND;TZID=Europe/Berlin:20251114T170000
DTSTAMP:20260419T205959
CREATED:20250717T132548Z
LAST-MODIFIED:20250717T132548Z
UID:10283-1763128800-1763139600@www.achtsamkeitsinstitut-ruhr.de
SUMMARY:Achtsamkeitsbasierte Körperarbeit bei chronischen Schmerzen - Onlineworkshop mit Petra Meibert
DESCRIPTION:MBPM – Online Workshop am 14. November 2025: Lernen Sie die achtsamkeitsbasierte Körperarbeit bei chronischen Schmerzen in einen Workshop des Achtsamkeitsinstituts Ruhr mit Petra Meibert im Rahmen des 2. Beltz Online-Kongresses zum Thema Körperorientierte Psychotherapie am 14. November 2025 kennen! Zur Anmeldung geht es hier:  \nDie Wirksamkeit achtsamkeitsbasierter Verfahren ist wissenschaftlich gut belegt. Mindfulness-Based Pain Management (MBPM) ist ein achtsamkeits- und mitgefühlsbasierter Ansatz\, der Betroffenen hilft\, trotz Schmerz und Krankheit wieder mehr mit dem Leben in Kontakt zu kommen. Gerade chronisch erkrankte Patient:innen haben häufig einen eingeschränkten Zugang zum eigenen Körpererleben. Im Workshop werden theoretische Grundlagen des MBPM vermittelt und praxisnahe Übungen vorgestellt – mit besonderem Fokus auf die Arbeit mit Körpererleben und Atem als zentrale Zugänge.
URL:https://www.achtsamkeitsinstitut-ruhr.de/event/achtsamkeitsbasierte-koerperarbeit-bei-chronischen-schmerzen-onlineworkshop-mit-petra-meibert/
LOCATION:Online Live
ATTACH;FMTTYPE=image/jpeg:https://www.achtsamkeitsinstitut-ruhr.de/wp-content/uploads/2019/01/rund_275_petra-meibert.jpg
END:VEVENT
BEGIN:VEVENT
DTSTART;TZID=Europe/Berlin:20251117T183000
DTEND;TZID=Europe/Berlin:20251117T200000
DTSTAMP:20260419T205959
CREATED:20251007T102235Z
LAST-MODIFIED:20251007T102552Z
UID:10566-1763404200-1763409600@www.achtsamkeitsinstitut-ruhr.de
SUMMARY:MBCT 8-Wochen Kurs
DESCRIPTION:  \nDie Achtsamkeitsbasierte Kognitive Therapie (MBCT-Mindfulness-based Cognitive Therapy) ist ein Therapieverfahren\, das entwickelt wurde\, um Menschen mit ein- oder mehrfach durchlebter Depression eine Methode an die Hand zu geben\, die das Risiko eines Rückfalls verringert. \nhttps://www.achtsamkeitsinstitut-ruhr.de/mbct-8-wochen-kurs/
URL:https://www.achtsamkeitsinstitut-ruhr.de/event/mbct-kurs-2/
LOCATION:Achtsamkeitsinstitut Ruhr\, Huyssenallee 52-56\, Essen\, NRW\, 45128
END:VEVENT
END:VCALENDAR