BEGIN:VCALENDAR
VERSION:2.0
PRODID:-//Achtsamkeitsinstitut Ruhr - ECPv6.15.20//NONSGML v1.0//EN
CALSCALE:GREGORIAN
METHOD:PUBLISH
X-ORIGINAL-URL:https://www.achtsamkeitsinstitut-ruhr.de
X-WR-CALDESC:Veranstaltungen für Achtsamkeitsinstitut Ruhr
REFRESH-INTERVAL;VALUE=DURATION:PT1H
X-Robots-Tag:noindex
X-PUBLISHED-TTL:PT1H
BEGIN:VTIMEZONE
TZID:Europe/Berlin
BEGIN:DAYLIGHT
TZOFFSETFROM:+0100
TZOFFSETTO:+0200
TZNAME:CEST
DTSTART:20250330T010000
END:DAYLIGHT
BEGIN:STANDARD
TZOFFSETFROM:+0200
TZOFFSETTO:+0100
TZNAME:CET
DTSTART:20251026T010000
END:STANDARD
BEGIN:DAYLIGHT
TZOFFSETFROM:+0100
TZOFFSETTO:+0200
TZNAME:CEST
DTSTART:20260329T010000
END:DAYLIGHT
BEGIN:STANDARD
TZOFFSETFROM:+0200
TZOFFSETTO:+0100
TZNAME:CET
DTSTART:20261025T010000
END:STANDARD
BEGIN:DAYLIGHT
TZOFFSETFROM:+0100
TZOFFSETTO:+0200
TZNAME:CEST
DTSTART:20270328T010000
END:DAYLIGHT
BEGIN:STANDARD
TZOFFSETFROM:+0200
TZOFFSETTO:+0100
TZNAME:CET
DTSTART:20271031T010000
END:STANDARD
END:VTIMEZONE
BEGIN:VEVENT
DTSTART;TZID=Europe/Berlin:20260421T173000
DTEND;TZID=Europe/Berlin:20260609T200000
DTSTAMP:20260419T192956
CREATED:20260203T135906Z
LAST-MODIFIED:20260203T135906Z
UID:10788-1776792600-1781035200@www.achtsamkeitsinstitut-ruhr.de
SUMMARY:MBCT-Kurs in Essen
DESCRIPTION:Die Achtsamkeitsbasierte Kognitive Therapie (MBCT-Mindfulness-based Cognitive Therapy) ist ein Therapieverfahren\, das entwickelt wurde\, um Menschen mit ein- oder mehrfach durchlebter Depression eine Methode an die Hand zu geben\, die das Risiko eines Rückfalls verringert. \nNeben den formalen Achtsamkeitsübungen (Body-Scan\, Sitzmeditation\, Achtsamkeit im Gehen sowie in der Bewegung) und der Schulung der Achtsamkeit im Alltag\, beinhaltet das Programm grundlegende Informationen zum Thema Depression und greift auf Übungen der kognitiven Verhaltenstherapie zurück. Hierzu ist es notwendig\, die im Kurs erlernten Übungen in den Alltag zu integrieren und täglich zu praktizieren. Die Teilnehmer/ innen erhalten dazu Audiodateien mit Übungsanleitungen und schriftliches Material zum Nacharbeiten der Sitzungen.
URL:https://www.achtsamkeitsinstitut-ruhr.de/event/mbct-kurs-in-essen/
END:VEVENT
END:VCALENDAR