BEGIN:VCALENDAR
VERSION:2.0
PRODID:-//Achtsamkeitsinstitut Ruhr - ECPv6.15.20//NONSGML v1.0//EN
CALSCALE:GREGORIAN
METHOD:PUBLISH
X-ORIGINAL-URL:https://www.achtsamkeitsinstitut-ruhr.de
X-WR-CALDESC:Veranstaltungen für Achtsamkeitsinstitut Ruhr
REFRESH-INTERVAL;VALUE=DURATION:PT1H
X-Robots-Tag:noindex
X-PUBLISHED-TTL:PT1H
BEGIN:VTIMEZONE
TZID:Europe/Berlin
BEGIN:DAYLIGHT
TZOFFSETFROM:+0100
TZOFFSETTO:+0200
TZNAME:CEST
DTSTART:20250330T010000
END:DAYLIGHT
BEGIN:STANDARD
TZOFFSETFROM:+0200
TZOFFSETTO:+0100
TZNAME:CET
DTSTART:20251026T010000
END:STANDARD
BEGIN:DAYLIGHT
TZOFFSETFROM:+0100
TZOFFSETTO:+0200
TZNAME:CEST
DTSTART:20260329T010000
END:DAYLIGHT
BEGIN:STANDARD
TZOFFSETFROM:+0200
TZOFFSETTO:+0100
TZNAME:CET
DTSTART:20261025T010000
END:STANDARD
BEGIN:DAYLIGHT
TZOFFSETFROM:+0100
TZOFFSETTO:+0200
TZNAME:CEST
DTSTART:20270328T010000
END:DAYLIGHT
BEGIN:STANDARD
TZOFFSETFROM:+0200
TZOFFSETTO:+0100
TZNAME:CET
DTSTART:20271031T010000
END:STANDARD
END:VTIMEZONE
BEGIN:VEVENT
DTSTART;TZID=Europe/Berlin:20260413T173000
DTEND;TZID=Europe/Berlin:20260608T200000
DTSTAMP:20260419T143924
CREATED:20260203T135356Z
LAST-MODIFIED:20260203T140052Z
UID:10785-1776101400-1780948800@www.achtsamkeitsinstitut-ruhr.de
SUMMARY:MBSR-KURS in Essen
DESCRIPTION:Was ist Achtsamkeit und wie kann sie helfen\, mit Stress umzugehen?\nAchtsamkeit ist ein Weg\, der uns lehrt\, uns selbst und die Welt auf eine lebendige und unmittelbare Weise zu erleben und mit unserem Körper\, unseren Gedanken\, Gefühlen und Verhaltensmustern bewusst umzugehen. Dies ermöglicht uns\, inneren Stress zu reduzieren und neue Handlungsmöglichkeiten zu erarbeiten.\nDie Teilnehmer*innen lernen bei der Schulung der Achtsamkeit durch kontinuierliches Üben\, den Geist zu beruhigen und es ist möglich\, Perioden tiefer innerer Ruhe und Entspannung zu erleben.
URL:https://www.achtsamkeitsinstitut-ruhr.de/event/mbsr-kurs-in-essen/
END:VEVENT
BEGIN:VEVENT
DTSTART;VALUE=DATE:20260415
DTEND;VALUE=DATE:20260418
DTSTAMP:20260419T143924
CREATED:20260212T110046Z
LAST-MODIFIED:20260212T110046Z
UID:10793-1776211200-1776470399@www.achtsamkeitsinstitut-ruhr.de
SUMMARY:Modul 2: Achtsamkeit lehren in Psychiatrie und Psychosomatik – Fortbildung f. Menschen in Pflege- und Gesundheitsberufen
DESCRIPTION:Fortbildung in 5 Modulen von Februar 2026 – November 2026: Alle Infos und Termine hier. Die Fortbildung findet in der Akademie im Park in Wiesloch statt. Ausführliche Informationen finden Sie auf der Webseite der Akademie im Park.\nWenn Sie Fragen zu den Inhalten der Fortbildung haben\, melden Sie sich gerne telefonisch bei uns oder per E-Mail unter info@achtsamkeitsinstitut-ruhr.de\nDie Fortbildung befähigt die Teilnehmenden\, auf der Basis eines erfahrungsbasierten Verstehens von Achtsamkeit professionell und kompetent Achtsamkeitsbasierte Interventionen angepasst an ihr jeweiliges Setting (Stationär/ Teilstationär/ Ambulant) zu leiten und je nach Gegebenheiten weiter zu entwickeln. Sie ist geeignet für Menschen\, Therapeut:innen sowie Pflegende\, die in Gesundheits\,- Pflege- oder Sozialberufen arbeiten und grundlegende Erfahrungen mit der Praxis der Achtsamkeitsmeditation z.B. durch den Besuch eines MBSR-Kurses\, haben. \nweiterlesen …
URL:https://www.achtsamkeitsinstitut-ruhr.de/event/modul-2-achtsamkeit-lehren-in-psychiatrie-und-psychosomatik-fortbildung-f-menschen-in-pflege-und-gesundheitsberufen/
LOCATION:Akademie im Park\, Heidelberger Str. 1a\, Wiesloch\, 69168
END:VEVENT
END:VCALENDAR