BEGIN:VCALENDAR
VERSION:2.0
PRODID:-//Achtsamkeitsinstitut Ruhr - ECPv6.15.20//NONSGML v1.0//EN
CALSCALE:GREGORIAN
METHOD:PUBLISH
X-ORIGINAL-URL:https://www.achtsamkeitsinstitut-ruhr.de
X-WR-CALDESC:Veranstaltungen für Achtsamkeitsinstitut Ruhr
REFRESH-INTERVAL;VALUE=DURATION:PT1H
X-Robots-Tag:noindex
X-PUBLISHED-TTL:PT1H
BEGIN:VTIMEZONE
TZID:Europe/Berlin
BEGIN:DAYLIGHT
TZOFFSETFROM:+0100
TZOFFSETTO:+0200
TZNAME:CEST
DTSTART:20250330T010000
END:DAYLIGHT
BEGIN:STANDARD
TZOFFSETFROM:+0200
TZOFFSETTO:+0100
TZNAME:CET
DTSTART:20251026T010000
END:STANDARD
BEGIN:DAYLIGHT
TZOFFSETFROM:+0100
TZOFFSETTO:+0200
TZNAME:CEST
DTSTART:20260329T010000
END:DAYLIGHT
BEGIN:STANDARD
TZOFFSETFROM:+0200
TZOFFSETTO:+0100
TZNAME:CET
DTSTART:20261025T010000
END:STANDARD
BEGIN:DAYLIGHT
TZOFFSETFROM:+0100
TZOFFSETTO:+0200
TZNAME:CEST
DTSTART:20270328T010000
END:DAYLIGHT
BEGIN:STANDARD
TZOFFSETFROM:+0200
TZOFFSETTO:+0100
TZNAME:CET
DTSTART:20271031T010000
END:STANDARD
END:VTIMEZONE
BEGIN:VEVENT
DTSTART;TZID=Europe/Berlin:20260313T100000
DTEND;TZID=Europe/Berlin:20260315T150000
DTSTAMP:20260419T160614
CREATED:20251117T172115Z
LAST-MODIFIED:20251117T172622Z
UID:10609-1773396000-1773586800@www.achtsamkeitsinstitut-ruhr.de
SUMMARY:Einführung in "Achtsamkeit und Mitgefühl im Umgang mit Schmerz und chronischen Erkrankungen" - Die Breathworks Methode - Mindfulness-Based Pain Management
DESCRIPTION:Online Live Grundlagenseminar für MBSR-\, MBCT-\, MSC- oder MBCL-Lehrer*innen \nmit der Begründerin der Breathworksarbeit Vidyamala Burch sowie Dr. Colette Power\, dt. Übersetzung Petra Meibert \nWeitere Informationen und Anmeldung hier
URL:https://www.achtsamkeitsinstitut-ruhr.de/event/einfuehrung-in-achtsamkeit-und-mitgefuehl-im-umgang-mit-schmerz-und-chronischen-erkrankungen-die-breathworks-methode-mbpm-mindfulness-based-pain-management/
LOCATION:Online Live
ATTACH;FMTTYPE=image/jpeg:https://www.achtsamkeitsinstitut-ruhr.de/wp-content/uploads/2024/01/kal-burch-power-meibert.jpg
END:VEVENT
END:VCALENDAR