BEGIN:VCALENDAR
VERSION:2.0
PRODID:-//Achtsamkeitsinstitut Ruhr - ECPv6.15.20//NONSGML v1.0//EN
CALSCALE:GREGORIAN
METHOD:PUBLISH
X-ORIGINAL-URL:https://www.achtsamkeitsinstitut-ruhr.de
X-WR-CALDESC:Veranstaltungen für Achtsamkeitsinstitut Ruhr
REFRESH-INTERVAL;VALUE=DURATION:PT1H
X-Robots-Tag:noindex
X-PUBLISHED-TTL:PT1H
BEGIN:VTIMEZONE
TZID:Europe/Berlin
BEGIN:DAYLIGHT
TZOFFSETFROM:+0100
TZOFFSETTO:+0200
TZNAME:CEST
DTSTART:20250330T010000
END:DAYLIGHT
BEGIN:STANDARD
TZOFFSETFROM:+0200
TZOFFSETTO:+0100
TZNAME:CET
DTSTART:20251026T010000
END:STANDARD
BEGIN:DAYLIGHT
TZOFFSETFROM:+0100
TZOFFSETTO:+0200
TZNAME:CEST
DTSTART:20260329T010000
END:DAYLIGHT
BEGIN:STANDARD
TZOFFSETFROM:+0200
TZOFFSETTO:+0100
TZNAME:CET
DTSTART:20261025T010000
END:STANDARD
BEGIN:DAYLIGHT
TZOFFSETFROM:+0100
TZOFFSETTO:+0200
TZNAME:CEST
DTSTART:20270328T010000
END:DAYLIGHT
BEGIN:STANDARD
TZOFFSETFROM:+0200
TZOFFSETTO:+0100
TZNAME:CET
DTSTART:20271031T010000
END:STANDARD
END:VTIMEZONE
BEGIN:VEVENT
DTSTART;VALUE=DATE:20260113
DTEND;VALUE=DATE:20260118
DTSTAMP:20260419T192833
CREATED:20250921T131652Z
LAST-MODIFIED:20250921T131808Z
UID:10521-1768262400-1768694399@www.achtsamkeitsinstitut-ruhr.de
SUMMARY:Online Live MBCT Fortbildung für zertifizierte MBSR-Lehrende
DESCRIPTION:Dieses fünftägige\, praxisbezogene Aufbaumodul befähigt Sie\, in einem ambulanten oder stationären Setting MBCT-Kurse anzubieten.\nWenn Sie keinen therapeutischen Hintergrund haben und somit auch keine MBCT-Kurse anbieten möchten\, bietet diese Fortbildung für Sie als MBSR-Lehrer*in folgenden Nutzen: \n\nEinen guten Rahmen zum fachlichen Austausch mit kompetenten Kolleg*innen.\nEine Erweiterung des fachlichen Wissens – insbesondere auch über die Hintergründe von Depression und Angststörungen\nErweiterte Kompetenz im Umgang mit Bewerber*innen für MBSR-Kurse im Sinne einer besseren Möglichkeit zur Einschätzung\, welches Kursformat zur Situation des/der Bewerbers/Bewerberin passt\n\nWas lernen Sie in der MBCT-Weiterbildung \n\nUnterschiede und Gemeinsamkeiten von MBSR und MBCT\nEntstehung und Hintergründe des MBCT-Programms incl. der kognitiven Modelle und Theorien der Depression und der Wirkung von Achtsamkeit in diesem Kontext\nSpezifische Vulnerabilitätsfaktoren für Depression und andere affektive Störungen sowie aufrechterhaltende bzw. verstärkende Mechanismen: die Bedeutung von Rumination\, Experiental avoidance (Vermeidung von unangenehmen Erfahrungen)\, kognitiver Reaktivität und der achtsame Umgang damit\nMBCT-Vorgespräch\, diagnostische Aspekte\, Indikation/Kontraindikation sowie Komorbiditäten\nInteraktives\, erfahrungsbezogenes Erarbeiten der spezifischen Elemente des MBCT-Programms und deren Vermittlung vor dem Hintergrund der Beziehungsgestaltung\, Verkörperung von Achtsamkeit\, Vermittlung der Inhalte durch didaktisches Unterrichten sowie die Gestaltung der Lernatmosphäre\nMBCT-spezifische Inquiry und deren Unterschied zum MBSR\nDie kognitiven Elemente und Übungen im MBCT-Programm sowie Auseinandersetzung mit der didaktischen Integration der Übungen in den Kontext von Achtsamkeit\nÜberblick über die aktuellen Forschungsergebnisse\n\n→ANMELDUNG
URL:https://www.achtsamkeitsinstitut-ruhr.de/event/online-live-mbct-fortbildung-fuer-zertifizierte-mbsr-lehrende/
LOCATION:Online Live
END:VEVENT
END:VCALENDAR