BEGIN:VCALENDAR
VERSION:2.0
PRODID:-//Achtsamkeitsinstitut Ruhr - ECPv6.15.20//NONSGML v1.0//EN
CALSCALE:GREGORIAN
METHOD:PUBLISH
X-ORIGINAL-URL:https://www.achtsamkeitsinstitut-ruhr.de
X-WR-CALDESC:Veranstaltungen für Achtsamkeitsinstitut Ruhr
REFRESH-INTERVAL;VALUE=DURATION:PT1H
X-Robots-Tag:noindex
X-PUBLISHED-TTL:PT1H
BEGIN:VTIMEZONE
TZID:Europe/Berlin
BEGIN:DAYLIGHT
TZOFFSETFROM:+0100
TZOFFSETTO:+0200
TZNAME:CEST
DTSTART:20240331T010000
END:DAYLIGHT
BEGIN:STANDARD
TZOFFSETFROM:+0200
TZOFFSETTO:+0100
TZNAME:CET
DTSTART:20241027T010000
END:STANDARD
BEGIN:DAYLIGHT
TZOFFSETFROM:+0100
TZOFFSETTO:+0200
TZNAME:CEST
DTSTART:20250330T010000
END:DAYLIGHT
BEGIN:STANDARD
TZOFFSETFROM:+0200
TZOFFSETTO:+0100
TZNAME:CET
DTSTART:20251026T010000
END:STANDARD
BEGIN:DAYLIGHT
TZOFFSETFROM:+0100
TZOFFSETTO:+0200
TZNAME:CEST
DTSTART:20260329T010000
END:DAYLIGHT
BEGIN:STANDARD
TZOFFSETFROM:+0200
TZOFFSETTO:+0100
TZNAME:CET
DTSTART:20261025T010000
END:STANDARD
END:VTIMEZONE
BEGIN:VEVENT
DTSTART;VALUE=DATE:20251114
DTEND;VALUE=DATE:20251116
DTSTAMP:20260419T223510
CREATED:20250701T084706Z
LAST-MODIFIED:20250701T084706Z
UID:10207-1763078400-1763251199@www.achtsamkeitsinstitut-ruhr.de
SUMMARY:DIE KUNST DES ERFORSCHENDEN GESPRÄCHS („INQUIRY“) IN ACHTSAMKEITSBASIERTER THERAPIE\, BERATUNG UND LEHRE
DESCRIPTION:Das erforschende Gespräch (engl. „Inquiry“) ist ein zentraler Bestandteil achtsamkeitsbasierter Verfahren. Ziel der Inquiry ist es\, die Teilnehmer*innen bzw. Klient:innen im achtsamen Dialog bei einer freundlichen und wertfreien Selbsterforschung zu begleiten. Dies ermöglicht eine differenzierte Sichtweise auf die eigenen Gedanken\, Gefühle und Körperempfindungen. Das erforschende Gespräch regt damit eine vertiefte und klarere Selbstwahrnehmung an und hilft den Teilnehmer*innen/ Klient*innen\, ihre Erfahrungen in einen persönlichen Kontext des Verstehens zu bringen.
URL:https://www.achtsamkeitsinstitut-ruhr.de/event/die-kunst-des-erforschenden-gespraechs-inquiry-in-achtsamkeitsbasierter-therapie-beratung-und-lehre/
LOCATION:Online Live
END:VEVENT
END:VCALENDAR